BEGIN:VCALENDAR
VERSION:2.0
PRODID:-//Gika Rector - ECPv6.15.18//NONSGML v1.0//EN
CALSCALE:GREGORIAN
METHOD:PUBLISH
X-WR-CALNAME:Gika Rector
X-ORIGINAL-URL:https://www.gika.info
X-WR-CALDESC:Events for Gika Rector
REFRESH-INTERVAL;VALUE=DURATION:PT1H
X-Robots-Tag:noindex
X-PUBLISHED-TTL:PT1H
BEGIN:VTIMEZONE
TZID:America/Chicago
BEGIN:DAYLIGHT
TZOFFSETFROM:-0600
TZOFFSETTO:-0500
TZNAME:CDT
DTSTART:20250309T080000
END:DAYLIGHT
BEGIN:STANDARD
TZOFFSETFROM:-0500
TZOFFSETTO:-0600
TZNAME:CST
DTSTART:20251102T070000
END:STANDARD
BEGIN:DAYLIGHT
TZOFFSETFROM:-0600
TZOFFSETTO:-0500
TZNAME:CDT
DTSTART:20260308T080000
END:DAYLIGHT
BEGIN:STANDARD
TZOFFSETFROM:-0500
TZOFFSETTO:-0600
TZNAME:CST
DTSTART:20261101T070000
END:STANDARD
BEGIN:DAYLIGHT
TZOFFSETFROM:-0600
TZOFFSETTO:-0500
TZNAME:CDT
DTSTART:20270314T080000
END:DAYLIGHT
BEGIN:STANDARD
TZOFFSETFROM:-0500
TZOFFSETTO:-0600
TZNAME:CST
DTSTART:20271107T070000
END:STANDARD
END:VTIMEZONE
BEGIN:VEVENT
DTSTART;TZID=America/Chicago:20260228T123000
DTEND;TZID=America/Chicago:20260228T160000
DTSTAMP:20260420T063527
CREATED:20260108T150147Z
LAST-MODIFIED:20260108T152401Z
UID:10001290-1772281800-1772294400@www.gika.info
SUMMARY:Lift Your Heart: A Feldenkrais Mini-Retreat (in Person)
DESCRIPTION:Somewhere in India\, there’s a stone that says\, “Lift your heart\, open to grace.” What does that mean\, physically and metaphorically? This mini-retreat is an invitation to explore heart-centered movement. Gentle Feldenkrais Awareness Through Movement lessons make it easier to articulate the spine\, to soften the ribs and sternum\, and to breathe more easily. All of this makes room for your heart to expand\, to lift yourself towards healing and resilience. \nThis class is suitable for almost all fitness levels. Willingness to lie on the floor and an interest in moving more easily are all you need. Please dress comfortably for movement. \nLocation\nThe Jung Center of Houston (in person) \nTuition\n$75 \nRegister\nRegistration is through the Jung Center’s web site. \n\nNotes:\n\nThis program is being offered in person and will not be recorded. \n	\nAll times are CT. Please contact The Jung Center with any questions. \n\nPlease register early. Jung Center programs with four or fewer participants registered 48 hours prior to their start are subject to cancellation. \n\n\n\nDisclaimer: We assume no responsibility for personal injury or property damage sustained by or through the use of our services or participation in our lessons and workshops. All lessons and information provided are intended for your general knowledge only and are not a substitute for medical advice or treatment for specific medical conditions. We cannot and do not give medical advice. You should seek prompt medical care for any specific health issues and consult your physician before taking part in our activities.
URL:https://www.gika.info/event/lift-your-heart-a-feldenkrais-mini-retreat-in-person/
LOCATION:The Jung Center (Houston)\, 5200 Montrose Boulevard\, Houston\, TX\, 77006\, United States
CATEGORIES:Awareness Through Movement,Feldenkrais
ATTACH;FMTTYPE=image/jpeg:https://www.gika.info/wp/wp-content/uploads/2026/01/purple-felt-heart-black-background.jpg
END:VEVENT
END:VCALENDAR