BEGIN:VCALENDAR
VERSION:2.0
PRODID:-//Gika Rector - ECPv6.15.18//NONSGML v1.0//EN
CALSCALE:GREGORIAN
METHOD:PUBLISH
X-WR-CALNAME:Gika Rector
X-ORIGINAL-URL:https://www.gika.info
X-WR-CALDESC:Events for Gika Rector
REFRESH-INTERVAL;VALUE=DURATION:PT1H
X-Robots-Tag:noindex
X-PUBLISHED-TTL:PT1H
BEGIN:VTIMEZONE
TZID:America/Chicago
BEGIN:DAYLIGHT
TZOFFSETFROM:-0600
TZOFFSETTO:-0500
TZNAME:CDT
DTSTART:20230312T080000
END:DAYLIGHT
BEGIN:STANDARD
TZOFFSETFROM:-0500
TZOFFSETTO:-0600
TZNAME:CST
DTSTART:20231105T070000
END:STANDARD
BEGIN:DAYLIGHT
TZOFFSETFROM:-0600
TZOFFSETTO:-0500
TZNAME:CDT
DTSTART:20240310T080000
END:DAYLIGHT
BEGIN:STANDARD
TZOFFSETFROM:-0500
TZOFFSETTO:-0600
TZNAME:CST
DTSTART:20241103T070000
END:STANDARD
BEGIN:DAYLIGHT
TZOFFSETFROM:-0600
TZOFFSETTO:-0500
TZNAME:CDT
DTSTART:20250309T080000
END:DAYLIGHT
BEGIN:STANDARD
TZOFFSETFROM:-0500
TZOFFSETTO:-0600
TZNAME:CST
DTSTART:20251102T070000
END:STANDARD
END:VTIMEZONE
BEGIN:VEVENT
DTSTART;TZID=America/Chicago:20241116T123000
DTEND;TZID=America/Chicago:20241116T160000
DTSTAMP:20260423T081434
CREATED:20240905T140803Z
LAST-MODIFIED:20240905T140803Z
UID:10000945-1731760200-1731772800@www.gika.info
SUMMARY:Moving From the Heart: A Feldenkrais Mini-Retreat (in Person)
DESCRIPTION:What does it mean to move from the heart? This Feldenkrais mini-retreat invites you to explore heart-centered movement of the hands and arms. We do amazing things with our hands: give and receive\, open and close\, hold and let go\, create and destroy. What happens when the movements of our hands come from the center—the heart? The muscles that operate our hands and arms are based deep in our chests. Knowing that\, experiencing that connection\, makes a difference. Our movements can become easier\, stronger\, and more aligned. \nThis class is suitable for almost all fitness levels. Willingness to lie on the floor\, and an interest in moving more easily are all you need. Please dress comfortably for movement. \nLocation\nThe Jung Center of Houston (in person) \nTuition\n$75 \nRegister\nRegistration is through the Jung Center’s web site. \n\nNotes:\n\nThis program is being offered in person and will not be recorded. \n	\nAll times are CT. Please contact The Jung Center with any questions. \n\nPlease register early. Jung Center programs with four or fewer participants registered 48 hours prior to their start are subject to cancellation. \n\n\n\nDisclaimer: We assume no responsibility for personal injury or property damage sustained by or through the use of our services or participation in our lessons and workshops. All lessons and information provided are intended for your general knowledge only and are not a substitute for medical advice or treatment for specific medical conditions. We cannot and do not give medical advice. You should seek prompt medical care for any specific health issues and consult your physician before taking part in our activities.
URL:https://www.gika.info/event/moving-from-the-heart-a-feldenkrais-mini-retreat-in-person/
LOCATION:The Jung Center (Houston)\, 5200 Montrose Boulevard\, Houston\, TX\, 77006\, United States
CATEGORIES:Awareness Through Movement,Feldenkrais
ATTACH;FMTTYPE=image/jpeg:https://www.gika.info/wp/wp-content/uploads/2024/08/IFF_Contemp_2014_img_Golden_044_h-scaled.jpg
END:VEVENT
BEGIN:VEVENT
DTSTART;TZID=America/Chicago:20241123T123000
DTEND;TZID=America/Chicago:20241123T160000
DTSTAMP:20260423T081434
CREATED:20240906T140826Z
LAST-MODIFIED:20240905T140911Z
UID:10000944-1732365000-1732377600@www.gika.info
SUMMARY:Creating a New Cloth: Nuno Felt Technique (in Person)
DESCRIPTION:It’s the perfect time to tap into your playful nature and craft a touch of warmth and beauty for the chillier months. Create your own unique scarf or wall hanging with an open-weave fabric and super-fine merino wool fibers. Felting colorful wool fibers into the cloth creates a lightweight and beautifully textured “nuno felt.” It’s magical\, hands-on fun! All materials will be provided\, and no special skills are required. \nLocation\nThe Jung Center of Houston (in person) \nTuition\n$85 \nRegister\nRegistration is through the Jung Center’s web site. \n\nNotes:\n\nThis program is being offered in person and will not be recorded. \n	\nAll times are CT. Please contact The Jung Center with any questions. \n\nPlease register early. Jung Center programs with four or fewer participants registered 48 hours prior to their start are subject to cancellation.
URL:https://www.gika.info/event/creating-a-new-cloth-nuno-felt-technique-in-person/
LOCATION:The Jung Center (Houston)\, 5200 Montrose Boulevard\, Houston\, TX\, 77006\, United States
CATEGORIES:Feltmaking
ATTACH;FMTTYPE=image/jpeg:https://www.gika.info/wp/wp-content/uploads/2024/08/Nuno-Felt-multi-colors.jpeg
END:VEVENT
END:VCALENDAR