BEGIN:VCALENDAR
VERSION:2.0
PRODID:-//Gika Rector - ECPv6.15.18//NONSGML v1.0//EN
CALSCALE:GREGORIAN
METHOD:PUBLISH
X-WR-CALNAME:Gika Rector
X-ORIGINAL-URL:https://www.gika.info
X-WR-CALDESC:Events for Gika Rector
REFRESH-INTERVAL;VALUE=DURATION:PT1H
X-Robots-Tag:noindex
X-PUBLISHED-TTL:PT1H
BEGIN:VTIMEZONE
TZID:America/Chicago
BEGIN:DAYLIGHT
TZOFFSETFROM:-0600
TZOFFSETTO:-0500
TZNAME:CDT
DTSTART:20160313T080000
END:DAYLIGHT
BEGIN:STANDARD
TZOFFSETFROM:-0500
TZOFFSETTO:-0600
TZNAME:CST
DTSTART:20161106T070000
END:STANDARD
BEGIN:DAYLIGHT
TZOFFSETFROM:-0600
TZOFFSETTO:-0500
TZNAME:CDT
DTSTART:20170312T080000
END:DAYLIGHT
BEGIN:STANDARD
TZOFFSETFROM:-0500
TZOFFSETTO:-0600
TZNAME:CST
DTSTART:20171105T070000
END:STANDARD
BEGIN:DAYLIGHT
TZOFFSETFROM:-0600
TZOFFSETTO:-0500
TZNAME:CDT
DTSTART:20180311T080000
END:DAYLIGHT
BEGIN:STANDARD
TZOFFSETFROM:-0500
TZOFFSETTO:-0600
TZNAME:CST
DTSTART:20181104T070000
END:STANDARD
END:VTIMEZONE
BEGIN:VEVENT
DTSTART;TZID=America/Chicago:20170820T100000
DTEND;TZID=America/Chicago:20170820T163000
DTSTAMP:20260419T071649
CREATED:20200702T142809Z
LAST-MODIFIED:20200702T142809Z
UID:5511-1503223200-1503246600@www.gika.info
SUMMARY:Workshop: Landscape Felt
DESCRIPTION:Imagine painting with wool and other fibers. Join Lisa Rose and Gika Rector for an all day workshop\, exploring the possibilities of creating imagery with fiber. Combining simple embroidery and three basic felting techniques—wet\, nuno and needle—participants will create a small felted landscape\, approximately 8 1/2″ by 11″. \nNo previous experience or talent necessary. We’ll provide all the necessary materials and tools. You bring your curiosity and perhaps a favorite landscape image for inspiration. (We’ll also provide some images and samples to get you started.) \nWe will break for lunch. Please bring a lunch or plan to go out to pick up lunch. \nFee\n$90 per student\, which includes teaching fee and all materials\nMaximum enrollment: 8 students\nMininim enrollment: 4 students \n\n\nHow to register\nRegistration is closed for this event. \nVisit WC Mercantile online to register. REGISTER HERE!\nQuestions? Contact info@wcmercantile.com or call 936-825-3378.\nShare\n				Share on Facebook (Opens in new window)\n				Facebook\n			\n				Share on X (Opens in new window)\n				X\n			\n				Share on LinkedIn (Opens in new window)\n				LinkedIn\n			\n				Share on WhatsApp (Opens in new window)\n				WhatsApp\n			\n				Email a link to a friend (Opens in new window)\n				Email\n			\n				Print (Opens in new window)\n				Print
URL:https://www.gika.info/event/workshop-landscape-felt/
LOCATION:WC Mercantile\, 201 E Washington Ave\, Navasota\, TX\, 77868\, United States
CATEGORIES:Feltmaking
ATTACH;FMTTYPE=image/jpeg:https://www.gika.info/wp/wp-content/uploads/2016/01/landscape-e1453379604616.jpg
END:VEVENT
END:VCALENDAR