BEGIN:VCALENDAR
VERSION:2.0
PRODID:-//Gika Rector - ECPv6.15.18//NONSGML v1.0//EN
CALSCALE:GREGORIAN
METHOD:PUBLISH
X-WR-CALNAME:Gika Rector
X-ORIGINAL-URL:https://www.gika.info
X-WR-CALDESC:Events for Gika Rector
REFRESH-INTERVAL;VALUE=DURATION:PT1H
X-Robots-Tag:noindex
X-PUBLISHED-TTL:PT1H
BEGIN:VTIMEZONE
TZID:America/Chicago
BEGIN:DAYLIGHT
TZOFFSETFROM:-0600
TZOFFSETTO:-0500
TZNAME:CDT
DTSTART:20090308T080000
END:DAYLIGHT
BEGIN:STANDARD
TZOFFSETFROM:-0500
TZOFFSETTO:-0600
TZNAME:CST
DTSTART:20091101T070000
END:STANDARD
BEGIN:DAYLIGHT
TZOFFSETFROM:-0600
TZOFFSETTO:-0500
TZNAME:CDT
DTSTART:20100314T080000
END:DAYLIGHT
BEGIN:STANDARD
TZOFFSETFROM:-0500
TZOFFSETTO:-0600
TZNAME:CST
DTSTART:20101107T070000
END:STANDARD
BEGIN:DAYLIGHT
TZOFFSETFROM:-0600
TZOFFSETTO:-0500
TZNAME:CDT
DTSTART:20110313T080000
END:DAYLIGHT
BEGIN:STANDARD
TZOFFSETFROM:-0500
TZOFFSETTO:-0600
TZNAME:CST
DTSTART:20111106T070000
END:STANDARD
END:VTIMEZONE
BEGIN:VEVENT
DTSTART;TZID=America/Chicago:20100729T190000
DTEND;TZID=America/Chicago:20100729T210000
DTSTAMP:20260419T124024
CREATED:20100530T043225Z
LAST-MODIFIED:20200920T044323Z
UID:6397-1280430000-1280437200@www.gika.info
SUMMARY:The Well-fed Artist: Food in the Midst of Famine
DESCRIPTION:Announcing the first meeting of The Well-fed Artist\, a Meetup group intended to subvert the idea that artists have to starve\, to suffer for their art. Artists can and do live rich\, full lives. How? What does it take? How can they provide nourishment for themselves and one another? \nHosted by coach and fiber artist Gika Rector\, this Meetup group explored what it takes individually and as a community to be well-fed. \nAbout the Meetup group\nThe Well-fed Artist Meetup Group met for several sessions in 2010 and 2011. Each meeting was loosely structured around a theme\, and also included time for individual reflection and conversation. \nThe theme for our first meeting was Food in the Midst of Famine. How do we practice our craft and feed ourselves when resources are scarce? \nParticipants were invited to bring something to share—a snack\, an idea\, or a show-and-tell. \nFee\nThe Well-fed Artist meetups were FREE and open to the public. Group membership was free and entitled members to participate in the discussion forums\, share messages with the community\, and sign up for announcements about other Meetup groups in their areas of interest. \nAbout Gika Rector\nA fiber artist for more than 30 years\, Gika Rector combines creativity\, an education in psychology\, and her role as a personal coach to facilitate transformation in individuals and organizations… more \nShare\n				Share on Facebook (Opens in new window)\n				Facebook\n			\n				Share on X (Opens in new window)\n				X\n			\n				Share on LinkedIn (Opens in new window)\n				LinkedIn\n			\n				Share on WhatsApp (Opens in new window)\n				WhatsApp\n			\n				Email a link to a friend (Opens in new window)\n				Email\n			\n				Print (Opens in new window)\n				Print
URL:https://www.gika.info/event/the-well-fed-artist-food-in-the-midst-of-famine/
LOCATION:Frame Craft Lampros Gallery\, 26106 Oakridge Drive\, The Woodlands\, TX\, 77380\, United States
CATEGORIES:Miscellaneous
ATTACH;FMTTYPE=image/jpeg:https://www.gika.info/wp/wp-content/uploads/2010/07/Pomegranate-corr2.jpg
END:VEVENT
END:VCALENDAR