BEGIN:VCALENDAR
VERSION:2.0
PRODID:-//Gika Rector - ECPv6.15.18//NONSGML v1.0//EN
CALSCALE:GREGORIAN
METHOD:PUBLISH
X-WR-CALNAME:Gika Rector
X-ORIGINAL-URL:https://www.gika.info
X-WR-CALDESC:Events for Gika Rector
REFRESH-INTERVAL;VALUE=DURATION:PT1H
X-Robots-Tag:noindex
X-PUBLISHED-TTL:PT1H
BEGIN:VTIMEZONE
TZID:America/Chicago
BEGIN:DAYLIGHT
TZOFFSETFROM:-0600
TZOFFSETTO:-0500
TZNAME:CDT
DTSTART:20210314T080000
END:DAYLIGHT
BEGIN:STANDARD
TZOFFSETFROM:-0500
TZOFFSETTO:-0600
TZNAME:CST
DTSTART:20211107T070000
END:STANDARD
BEGIN:DAYLIGHT
TZOFFSETFROM:-0600
TZOFFSETTO:-0500
TZNAME:CDT
DTSTART:20220313T080000
END:DAYLIGHT
BEGIN:STANDARD
TZOFFSETFROM:-0500
TZOFFSETTO:-0600
TZNAME:CST
DTSTART:20221106T070000
END:STANDARD
BEGIN:DAYLIGHT
TZOFFSETFROM:-0600
TZOFFSETTO:-0500
TZNAME:CDT
DTSTART:20230312T080000
END:DAYLIGHT
BEGIN:STANDARD
TZOFFSETFROM:-0500
TZOFFSETTO:-0600
TZNAME:CST
DTSTART:20231105T070000
END:STANDARD
END:VTIMEZONE
BEGIN:VEVENT
DTSTART;TZID=America/Chicago:20220324T113000
DTEND;TZID=America/Chicago:20220324T130000
DTSTAMP:20260420T163428
CREATED:20220222T160256Z
LAST-MODIFIED:20220222T160256Z
UID:10000068-1648121400-1648126800@www.gika.info
SUMMARY:Relaxing the Muscles of the Neck
DESCRIPTION:Holding a lot of tension in your neck lately? Spending a bit too much time looking at screens? Is it harder than it should be to look over your shoulder or up at the sky? \nThis four-week series of Feldenkrais Awareness Through Movement lessons explores how to better organize the muscles of the neck\, creating greater ease and comfort—not to mention greater mobility. And if your neck is happier\, the rest of you might be a little happier also. \nClasses are suitable for almost all fitness levels. Willingness to lie on the floor\, and an interest in moving more easily are all you need. \nSchedule\nFour Thursdays: March 3\, 10\, 17\, and 24\, 11:30 a.m. to 1:00 p.m. U.S. Central Time \nLocation\nOnline via Zoom \nTuition\n$100 for the four-class series. You must register by March 2. \n\nParticipants will be provided access to an audio recording of each lesson\, in case they need to miss a session or would like to refresh their experience of the lesson.\n\nRegister\n[scheduling site=”https://gikarector.as.me/relax-neck-22-03″]\nDisclaimer: We assume no responsibility for personal injury or property damage sustained by or through the use of our services or participation in our lessons and workshops. All lessons and information provided are intended for your general knowledge only and are not a substitute for medical advice or treatment for specific medical conditions. We cannot and do not give medical advice. You should seek prompt medical care for any specific health issues and consult your physician before taking part in our activities.\nShare\n				Share on Facebook (Opens in new window)\n				Facebook\n			\n				Share on X (Opens in new window)\n				X\n			\n				Share on LinkedIn (Opens in new window)\n				LinkedIn\n			\n				Share on WhatsApp (Opens in new window)\n				WhatsApp\n			\n				Email a link to a friend (Opens in new window)\n				Email\n			\n				Print (Opens in new window)\n				Print
URL:https://www.gika.info/event/relaxing-the-muscles-of-the-neck/2022-03-24/
LOCATION:Online via Zoom
CATEGORIES:ATM class series,Awareness Through Movement,Feldenkrais
ATTACH;FMTTYPE=image/jpeg:https://www.gika.info/wp/wp-content/uploads/2022/02/Depositphotos_26934459_L-goose-neck.jpg
END:VEVENT
END:VCALENDAR