BEGIN:VCALENDAR
VERSION:2.0
PRODID:-//Gika Rector - ECPv6.15.18//NONSGML v1.0//EN
CALSCALE:GREGORIAN
METHOD:PUBLISH
X-WR-CALNAME:Gika Rector
X-ORIGINAL-URL:https://www.gika.info
X-WR-CALDESC:Events for Gika Rector
REFRESH-INTERVAL;VALUE=DURATION:PT1H
X-Robots-Tag:noindex
X-PUBLISHED-TTL:PT1H
BEGIN:VTIMEZONE
TZID:America/Chicago
BEGIN:DAYLIGHT
TZOFFSETFROM:-0600
TZOFFSETTO:-0500
TZNAME:CDT
DTSTART:20200308T080000
END:DAYLIGHT
BEGIN:STANDARD
TZOFFSETFROM:-0500
TZOFFSETTO:-0600
TZNAME:CST
DTSTART:20201101T070000
END:STANDARD
BEGIN:DAYLIGHT
TZOFFSETFROM:-0600
TZOFFSETTO:-0500
TZNAME:CDT
DTSTART:20210314T080000
END:DAYLIGHT
BEGIN:STANDARD
TZOFFSETFROM:-0500
TZOFFSETTO:-0600
TZNAME:CST
DTSTART:20211107T070000
END:STANDARD
BEGIN:DAYLIGHT
TZOFFSETFROM:-0600
TZOFFSETTO:-0500
TZNAME:CDT
DTSTART:20220313T080000
END:DAYLIGHT
BEGIN:STANDARD
TZOFFSETFROM:-0500
TZOFFSETTO:-0600
TZNAME:CST
DTSTART:20221106T070000
END:STANDARD
END:VTIMEZONE
BEGIN:VEVENT
DTSTART;TZID=America/Chicago:20210204T113000
DTEND;TZID=America/Chicago:20210204T130000
DTSTAMP:20260420T020710
CREATED:20210122T173353Z
LAST-MODIFIED:20210224T180357Z
UID:10000006-1612438200-1612443600@www.gika.info
SUMMARY:Lift Your Heart
DESCRIPTION:Has your heart been sinking lately? Do you feel the front of yourself caving in toward itself? Is it harder to look up and around you? We’ve all suffered losses\, some more dramatic than others. Losses nonetheless. Our bodies reflect these losses in the way we hold ourselves; and that in turn affects our mood and our thinking. This four-week Feldenkrais Awareness Through Movement® course will help you lift your heart. By strengthening the spine\, softening the ribs and sternum you can stand up taller\, make room for your heart to expand\, and lift yourself towards healing and resilience.  \nThis online\, small-group course is suitable for most fitness levels. All you need is a willingness to lie on the floor and be curious. \nSchedule\nFour Thursdays\, February 4\, 11\, 18\, and 25\, 11:30 a.m. to 1:00 p.m. U.S. Central Time \nLocation\nOnline via Zoom \nTuition\n$100 for the four-session course. Please register by February 4. \n\nParticipants will be provided access to an audio recording of each lesson\, in case they need to miss a session or would like to refresh their experience of the lesson.\n\nRegister\nThe start date for this course has passed\, but you may still register for one or more remaining sessions of this course by sending e-mail or by calling or texting 713-213-7643. \nDisclaimer: We assume no responsibility for personal injury or property damage sustained by or through the use of our services or participation in our lessons and workshops. All lessons and information provided are intended for your general knowledge only and are not a substitute for medical advice or treatment for specific medical conditions. We cannot and do not give medical advice. You should seek prompt medical care for any specific health issues and consult your physician before taking part in our activities.\nShare\n				Share on Facebook (Opens in new window)\n				Facebook\n			\n				Share on X (Opens in new window)\n				X\n			\n				Share on LinkedIn (Opens in new window)\n				LinkedIn\n			\n				Share on WhatsApp (Opens in new window)\n				WhatsApp\n			\n				Email a link to a friend (Opens in new window)\n				Email\n			\n				Print (Opens in new window)\n				Print
URL:https://www.gika.info/event/lift-your-heart/2021-02-04/
LOCATION:Online via Zoom
CATEGORIES:ATM class series,Awareness Through Movement,Feldenkrais
ATTACH;FMTTYPE=image/jpeg:https://www.gika.info/wp/wp-content/uploads/2021/01/felt-heart-black-background.jpg
END:VEVENT
END:VCALENDAR