BEGIN:VCALENDAR
VERSION:2.0
PRODID:-//Gika Rector - ECPv6.15.18//NONSGML v1.0//EN
CALSCALE:GREGORIAN
METHOD:PUBLISH
X-WR-CALNAME:Gika Rector
X-ORIGINAL-URL:https://www.gika.info
X-WR-CALDESC:Events for Gika Rector
REFRESH-INTERVAL;VALUE=DURATION:PT1H
X-Robots-Tag:noindex
X-PUBLISHED-TTL:PT1H
BEGIN:VTIMEZONE
TZID:America/Chicago
BEGIN:DAYLIGHT
TZOFFSETFROM:-0600
TZOFFSETTO:-0500
TZNAME:CDT
DTSTART:20190310T080000
END:DAYLIGHT
BEGIN:STANDARD
TZOFFSETFROM:-0500
TZOFFSETTO:-0600
TZNAME:CST
DTSTART:20191103T070000
END:STANDARD
BEGIN:DAYLIGHT
TZOFFSETFROM:-0600
TZOFFSETTO:-0500
TZNAME:CDT
DTSTART:20200308T080000
END:DAYLIGHT
BEGIN:STANDARD
TZOFFSETFROM:-0500
TZOFFSETTO:-0600
TZNAME:CST
DTSTART:20201101T070000
END:STANDARD
BEGIN:DAYLIGHT
TZOFFSETFROM:-0600
TZOFFSETTO:-0500
TZNAME:CDT
DTSTART:20210314T080000
END:DAYLIGHT
BEGIN:STANDARD
TZOFFSETFROM:-0500
TZOFFSETTO:-0600
TZNAME:CST
DTSTART:20211107T070000
END:STANDARD
END:VTIMEZONE
BEGIN:VEVENT
DTSTART;TZID=America/Chicago:20201217T113000
DTEND;TZID=America/Chicago:20201217T130000
DTSTAMP:20260420T193831
CREATED:20201118T172929Z
LAST-MODIFIED:20210104T182318Z
UID:10000112-1608204600-1608210000@www.gika.info
SUMMARY:Improving Vision
DESCRIPTION:Here we are at the end of 2020. Surely it’s time to talk about vision. Most of us don’t have 20/20 vision\, even in hindsight. But we can improve our vision—physically and metaphorically. What we do with our eyes affects how we move\, and how we move affects how we experience vision. \nThis three-session course of Feldenkrais Awareness Through Movement® lessons will explore eye movement\, an expanded view of what vision is\, and how our posture—Feldenkrais might say “acture”—changes how we use our eyes. \nLocation\nOnline via Zoom \nTuition\n$75 for the three-session course. Please register by December 3. \nParticipants will be provided access to an audio recording of each lesson\, in case they need to miss a session or would like to refresh their experience of the lesson. \nRegister\n[scheduling site=”https://gikarector.as.me/improving-vision”]\nDisclaimer: We assume no responsibility for personal injury or property damage sustained by or through the use of our services or participation in our lessons and workshops. All lessons and information provided are intended for your general knowledge only and are not a substitute for medical advice or treatment for specific medical conditions. We cannot and do not give medical advice. You should seek prompt medical care for any specific health issues and consult your physician before taking part in our activities.\nShare\n				Share on Facebook (Opens in new window)\n				Facebook\n			\n				Share on X (Opens in new window)\n				X\n			\n				Share on LinkedIn (Opens in new window)\n				LinkedIn\n			\n				Share on WhatsApp (Opens in new window)\n				WhatsApp\n			\n				Email a link to a friend (Opens in new window)\n				Email\n			\n				Print (Opens in new window)\n				Print
URL:https://www.gika.info/event/improving-vision/2020-12-17/
LOCATION:Online via Zoom
CATEGORIES:ATM class series,Feldenkrais
ATTACH;FMTTYPE=image/jpeg:https://www.gika.info/wp/wp-content/uploads/2020/11/IMG_1066-scaled.jpg
END:VEVENT
END:VCALENDAR