BEGIN:VCALENDAR
VERSION:2.0
PRODID:-//Gika Rector - ECPv6.15.18//NONSGML v1.0//EN
CALSCALE:GREGORIAN
METHOD:PUBLISH
X-WR-CALNAME:Gika Rector
X-ORIGINAL-URL:https://www.gika.info
X-WR-CALDESC:Events for Gika Rector
REFRESH-INTERVAL;VALUE=DURATION:PT1H
X-Robots-Tag:noindex
X-PUBLISHED-TTL:PT1H
BEGIN:VTIMEZONE
TZID:America/Chicago
BEGIN:DAYLIGHT
TZOFFSETFROM:-0600
TZOFFSETTO:-0500
TZNAME:CDT
DTSTART:20230312T080000
END:DAYLIGHT
BEGIN:STANDARD
TZOFFSETFROM:-0500
TZOFFSETTO:-0600
TZNAME:CST
DTSTART:20231105T070000
END:STANDARD
BEGIN:DAYLIGHT
TZOFFSETFROM:-0600
TZOFFSETTO:-0500
TZNAME:CDT
DTSTART:20240310T080000
END:DAYLIGHT
BEGIN:STANDARD
TZOFFSETFROM:-0500
TZOFFSETTO:-0600
TZNAME:CST
DTSTART:20241103T070000
END:STANDARD
BEGIN:DAYLIGHT
TZOFFSETFROM:-0600
TZOFFSETTO:-0500
TZNAME:CDT
DTSTART:20250309T080000
END:DAYLIGHT
BEGIN:STANDARD
TZOFFSETFROM:-0500
TZOFFSETTO:-0600
TZNAME:CST
DTSTART:20251102T070000
END:STANDARD
END:VTIMEZONE
BEGIN:VEVENT
DTSTART;TZID=America/Chicago:20241017T190000
DTEND;TZID=America/Chicago:20241017T200000
DTSTAMP:20260419T160949
CREATED:20241010T160225Z
LAST-MODIFIED:20241010T160225Z
UID:9268-1729191600-1729195200@www.gika.info
SUMMARY:Helping Hands—A Feldenkrais Awareness Through Movement Lesson
DESCRIPTION:﻿﻿Spending too much time typing with your thumbs? Or on a laptop? Holding extra tension in your hands\, arms\, or shoulders? Explore gentle ways to restore ease and comfort to your hands so you can happily resume your favorite activities. To register for this special class\, please make a donation to a nonprofit that is offering helping hands to those in need in the wake of Hurricane Helene. \nThere’s no need to provide proof of your donation. Simply come back here to enroll in the class after you’ve made a donation to an organization of your choice. As a fiber artist\, I’m especially touched by these two: Local Cloth’s Go Fund Me and Cerf+. Here’s another list of organizations in western North Carolina. \nThis class is being offered live\, online. An audio recording of the lesson will be sent to all those who register. \nThis class is suitable for almost all fitness levels. Willingness to lie on the floor\, and an interest in moving more easily are all you need. Please dress comfortably for movement. \nLocation\nOnline via Zoom \nTuition\nPlease make a donation to Hurricane Helene relief. \nRegister\n[scheduling site=”https://gikarector.as.me/helping-hands-2024-10-17″]\nDisclaimer: We assume no responsibility for personal injury or property damage sustained by or through the use of our services or participation in our lessons and workshops. All lessons and information provided are intended for your general knowledge only and are not a substitute for medical advice or treatment for specific medical conditions. We cannot and do not give medical advice. You should seek prompt medical care for any specific health issues and consult your physician before taking part in our activities.\nShare\n				Share on Facebook (Opens in new window)\n				Facebook\n			\n				Share on X (Opens in new window)\n				X\n			\n				Share on LinkedIn (Opens in new window)\n				LinkedIn\n			\n				Share on WhatsApp (Opens in new window)\n				WhatsApp\n			\n				Email a link to a friend (Opens in new window)\n				Email\n			\n				Print (Opens in new window)\n				Print
URL:https://www.gika.info/event/helping-hands-a-feldenkrais-awareness-through-movement-lesson/
LOCATION:Online via Zoom
CATEGORIES:Awareness Through Movement,Feldenkrais
ATTACH;FMTTYPE=image/png:https://www.gika.info/wp/wp-content/uploads/2024/10/hands_heart-Converted.png
END:VEVENT
END:VCALENDAR