BEGIN:VCALENDAR
VERSION:2.0
PRODID:-//Gika Rector - ECPv6.15.18//NONSGML v1.0//EN
CALSCALE:GREGORIAN
METHOD:PUBLISH
X-WR-CALNAME:Gika Rector
X-ORIGINAL-URL:https://www.gika.info
X-WR-CALDESC:Events for Gika Rector
REFRESH-INTERVAL;VALUE=DURATION:PT1H
X-Robots-Tag:noindex
X-PUBLISHED-TTL:PT1H
BEGIN:VTIMEZONE
TZID:America/Chicago
BEGIN:DAYLIGHT
TZOFFSETFROM:-0600
TZOFFSETTO:-0500
TZNAME:CDT
DTSTART:20200308T080000
END:DAYLIGHT
BEGIN:STANDARD
TZOFFSETFROM:-0500
TZOFFSETTO:-0600
TZNAME:CST
DTSTART:20201101T070000
END:STANDARD
BEGIN:DAYLIGHT
TZOFFSETFROM:-0600
TZOFFSETTO:-0500
TZNAME:CDT
DTSTART:20210314T080000
END:DAYLIGHT
BEGIN:STANDARD
TZOFFSETFROM:-0500
TZOFFSETTO:-0600
TZNAME:CST
DTSTART:20211107T070000
END:STANDARD
BEGIN:DAYLIGHT
TZOFFSETFROM:-0600
TZOFFSETTO:-0500
TZNAME:CDT
DTSTART:20220313T080000
END:DAYLIGHT
BEGIN:STANDARD
TZOFFSETFROM:-0500
TZOFFSETTO:-0600
TZNAME:CST
DTSTART:20221106T070000
END:STANDARD
END:VTIMEZONE
BEGIN:VEVENT
DTSTART;TZID=America/Chicago:20210114T113000
DTEND;TZID=America/Chicago:20210114T130000
DTSTAMP:20260419T093133
CREATED:20210104T183231Z
LAST-MODIFIED:20210108T184204Z
UID:10000011-1610623800-1610629200@www.gika.info
SUMMARY:Happy Feet
DESCRIPTION:Wouldn’t you like to step forward in 2021 with Happy Feet? This four-week course will include Feldenkrais Awareness Through Movement@ lessons designed to make your feet smile. In a small-group\, online setting\, we’ll explore our magical feet. With 26 bones in each foot\, we have so many more possibilities for movement than we usually consider. Let’s bring greater ease\, balance\, and comfort to our everyday moves. \nLocation\nOnline via Zoom \nTuition\n$100 for the four-session course. Please register by January 7. \n\nParticipants will be provided access to an audio recording of each lesson\, in case they need to miss a session or would like to refresh their experience of the lesson.\n\nRegister\nThe start date for this course has passed\, but you may still register for one or more remaining sessions of this course by sending e-mail or by calling or texting 713-213-7643. \nDisclaimer: We assume no responsibility for personal injury or property damage sustained by or through the use of our services or participation in our lessons and workshops. All lessons and information provided are intended for your general knowledge only and are not a substitute for medical advice or treatment for specific medical conditions. We cannot and do not give medical advice. You should seek prompt medical care for any specific health issues and consult your physician before taking part in our activities.\nShare\n				Share on Facebook (Opens in new window)\n				Facebook\n			\n				Share on X (Opens in new window)\n				X\n			\n				Share on LinkedIn (Opens in new window)\n				LinkedIn\n			\n				Share on WhatsApp (Opens in new window)\n				WhatsApp\n			\n				Email a link to a friend (Opens in new window)\n				Email\n			\n				Print (Opens in new window)\n				Print
URL:https://www.gika.info/event/happy-feet/2021-01-14/
LOCATION:Online via Zoom
CATEGORIES:ATM class series,Awareness Through Movement,Feldenkrais
ATTACH;FMTTYPE=image/jpeg:https://www.gika.info/wp/wp-content/uploads/2020/11/Depositphotos_73429947_l-2015-feet-with-xray-treadmill.jpg
END:VEVENT
END:VCALENDAR