BEGIN:VCALENDAR
VERSION:2.0
PRODID:-//Gika Rector - ECPv6.15.18//NONSGML v1.0//EN
CALSCALE:GREGORIAN
METHOD:PUBLISH
X-WR-CALNAME:Gika Rector
X-ORIGINAL-URL:https://www.gika.info
X-WR-CALDESC:Events for Gika Rector
REFRESH-INTERVAL;VALUE=DURATION:PT1H
X-Robots-Tag:noindex
X-PUBLISHED-TTL:PT1H
BEGIN:VTIMEZONE
TZID:America/Chicago
BEGIN:DAYLIGHT
TZOFFSETFROM:-0600
TZOFFSETTO:-0500
TZNAME:CDT
DTSTART:20230312T080000
END:DAYLIGHT
BEGIN:STANDARD
TZOFFSETFROM:-0500
TZOFFSETTO:-0600
TZNAME:CST
DTSTART:20231105T070000
END:STANDARD
BEGIN:DAYLIGHT
TZOFFSETFROM:-0600
TZOFFSETTO:-0500
TZNAME:CDT
DTSTART:20240310T080000
END:DAYLIGHT
BEGIN:STANDARD
TZOFFSETFROM:-0500
TZOFFSETTO:-0600
TZNAME:CST
DTSTART:20241103T070000
END:STANDARD
BEGIN:DAYLIGHT
TZOFFSETFROM:-0600
TZOFFSETTO:-0500
TZNAME:CDT
DTSTART:20250309T080000
END:DAYLIGHT
BEGIN:STANDARD
TZOFFSETFROM:-0500
TZOFFSETTO:-0600
TZNAME:CST
DTSTART:20251102T070000
END:STANDARD
END:VTIMEZONE
BEGIN:VEVENT
DTSTART;TZID=America/Chicago:20240629T123000
DTEND;TZID=America/Chicago:20240629T160000
DTSTAMP:20260419T131044
CREATED:20240517T204755Z
LAST-MODIFIED:20240517T204755Z
UID:9096-1719664200-1719676800@www.gika.info
SUMMARY:Finding Your Footing: A Feldenkrais Mini-Retreat (in Person)
DESCRIPTION:Feeling stuck? Having a hard time moving your body\, much less moving your life? How are your feet? Tired\, sore\, achy? Do you find yourself looking for the perfect pair of shoes (no matter how ugly) to get you through the day without hurting? Join Gika Rector for a gentle exploration of standing and moving forward – physically and perhaps imaginally. This Feldenkrais mini-retreat focuses on the feet as both a metaphor and as a physical experience to explore how we find easier stability\, balance\, and movement. \nThis class is suitable for almost all fitness levels. Willingness to lie on the floor\, and an interest in moving more easily are all you need. Please dress comfortably for movement. \nLocation\nThe Jung Center of Houston (in person) \nTuition\n$75 \nRegister\nRegistration is through the Jung Center’s web site. \n\nNotes:\n\nThis program is being offered in person and will not be recorded. \n	\nAll times are CT. Please contact The Jung Center with any questions. \n\nPlease register early. Jung Center programs with four or fewer participants registered 48 hours prior to their start are subject to cancellation. \n\n\n\nDisclaimer: We assume no responsibility for personal injury or property damage sustained by or through the use of our services or participation in our lessons and workshops. All lessons and information provided are intended for your general knowledge only and are not a substitute for medical advice or treatment for specific medical conditions. We cannot and do not give medical advice. You should seek prompt medical care for any specific health issues and consult your physician before taking part in our activities.\nShare\n				Share on Facebook (Opens in new window)\n				Facebook\n			\n				Share on X (Opens in new window)\n				X\n			\n				Share on LinkedIn (Opens in new window)\n				LinkedIn\n			\n				Share on WhatsApp (Opens in new window)\n				WhatsApp\n			\n				Email a link to a friend (Opens in new window)\n				Email\n			\n				Print (Opens in new window)\n				Print
URL:https://www.gika.info/event/finding-your-footing-a-feldenkrais-mini-retreat-in-person/
LOCATION:The Jung Center (Houston)\, 5200 Montrose Boulevard\, Houston\, TX\, 77006\, United States
CATEGORIES:Awareness Through Movement,Feldenkrais
ATTACH;FMTTYPE=image/jpeg:https://www.gika.info/wp/wp-content/uploads/2022/09/Depositphotos_35128819_L-Baby-Steps.jpg
END:VEVENT
END:VCALENDAR