BEGIN:VCALENDAR
VERSION:2.0
PRODID:-//Gika Rector - ECPv6.15.18//NONSGML v1.0//EN
CALSCALE:GREGORIAN
METHOD:PUBLISH
X-WR-CALNAME:Gika Rector
X-ORIGINAL-URL:https://www.gika.info
X-WR-CALDESC:Events for Gika Rector
REFRESH-INTERVAL;VALUE=DURATION:PT1H
X-Robots-Tag:noindex
X-PUBLISHED-TTL:PT1H
BEGIN:VTIMEZONE
TZID:America/Chicago
BEGIN:DAYLIGHT
TZOFFSETFROM:-0600
TZOFFSETTO:-0500
TZNAME:CDT
DTSTART:20190310T080000
END:DAYLIGHT
BEGIN:STANDARD
TZOFFSETFROM:-0500
TZOFFSETTO:-0600
TZNAME:CST
DTSTART:20191103T070000
END:STANDARD
BEGIN:DAYLIGHT
TZOFFSETFROM:-0600
TZOFFSETTO:-0500
TZNAME:CDT
DTSTART:20200308T080000
END:DAYLIGHT
BEGIN:STANDARD
TZOFFSETFROM:-0500
TZOFFSETTO:-0600
TZNAME:CST
DTSTART:20201101T070000
END:STANDARD
BEGIN:DAYLIGHT
TZOFFSETFROM:-0600
TZOFFSETTO:-0500
TZNAME:CDT
DTSTART:20210314T080000
END:DAYLIGHT
BEGIN:STANDARD
TZOFFSETFROM:-0500
TZOFFSETTO:-0600
TZNAME:CST
DTSTART:20211107T070000
END:STANDARD
END:VTIMEZONE
BEGIN:VEVENT
DTSTART;TZID=America/Chicago:20200914T083000
DTEND;TZID=America/Chicago:20200914T093000
DTSTAMP:20260422T090717
CREATED:20200831T202929Z
LAST-MODIFIED:20200911T172321Z
UID:6120-1600072200-1600075800@www.gika.info
SUMMARY:CreativeMornings: Mini (Feldenkrais) Moves with Gika Rector
DESCRIPTION:Feeling confined and constrained? Sitting too much? Not moving or breathing as easily and gracefully as you’d like? \nJoin Gika Rector for a CreativeMornings Virtual FieldTrip and learn some simple\, gentle movements that can help you sit more comfortably—and chances are it will help you with lots of other movements\, too. All you need is a chair to sit on. Ideally\, your chair would have a firm seat\, and you should be able to place your feet flat on the floor while sitting. \n\n\n\nDate:\nSeptember 14\, 2020\n\n\nTime:\n9:30–10:30 a.m. EDT (8:30–9:30 Central)\n\n\nLocation:\nOnline at FieldTrips on Zoom\n\n\nPrice:\nFree!\n\n\n\n Register now!\nAbout Your Host\nAs a Guild Certified Feldenkrais Practitioner\, I’m delighted to serve as a field guide\, helping people to explore how they might improve how they move. It opens up so many possibilities on so many levels. \nAbout CreativeMornings\nCreativeMornings is the world’s largest face-to-face creative community — a global breakfast lecture series serving local creative communities in over 200 cities. Started in 2008 by Tina Roth Eisenberg\, she wanted an easy way for her New York creative community to come together\, on a regular basis. CreativeMornings events are free of charge and always will be. Powered by the generosity of over 200 hosts and 1\,500 volunteers\, events happen on a monthly basis typically featuring an inspiring talk and breakfast. The CreativeMornings team is headquartered in Brooklyn\, NY. \nAbout Virtual FieldTrips\nFieldTrips are meetups to interact\, learn and collaborate in an effort to level-up your creative life. Built on top of our 20\,000 monthly attendees at CreativeMornings talks\, FieldTrips are community-organized events built on the spirit of generosity that has powered CreativeMornings events for the past 10 years. \nShare\n				Share on Facebook (Opens in new window)\n				Facebook\n			\n				Share on X (Opens in new window)\n				X\n			\n				Share on LinkedIn (Opens in new window)\n				LinkedIn\n			\n				Share on WhatsApp (Opens in new window)\n				WhatsApp\n			\n				Email a link to a friend (Opens in new window)\n				Email\n			\n				Print (Opens in new window)\n				Print
URL:https://www.gika.info/event/creativemornings-mini-feldenkrais-moves-with-gika-rector/
LOCATION:Online via Zoom
CATEGORIES:CreativeMornings FieldTrip,Feldenkrais
ATTACH;FMTTYPE=image/jpeg:https://www.gika.info/wp/wp-content/uploads/2020/08/NC-photo-treeline-IMG_3667-adjusted-smaller.jpg
END:VEVENT
END:VCALENDAR