BEGIN:VCALENDAR
VERSION:2.0
PRODID:-//Gika Rector - ECPv6.15.18//NONSGML v1.0//EN
CALSCALE:GREGORIAN
METHOD:PUBLISH
X-WR-CALNAME:Gika Rector
X-ORIGINAL-URL:https://www.gika.info
X-WR-CALDESC:Events for Gika Rector
REFRESH-INTERVAL;VALUE=DURATION:PT1H
X-Robots-Tag:noindex
X-PUBLISHED-TTL:PT1H
BEGIN:VTIMEZONE
TZID:America/Chicago
BEGIN:DAYLIGHT
TZOFFSETFROM:-0600
TZOFFSETTO:-0500
TZNAME:CDT
DTSTART:20150308T080000
END:DAYLIGHT
BEGIN:STANDARD
TZOFFSETFROM:-0500
TZOFFSETTO:-0600
TZNAME:CST
DTSTART:20151101T070000
END:STANDARD
BEGIN:DAYLIGHT
TZOFFSETFROM:-0600
TZOFFSETTO:-0500
TZNAME:CDT
DTSTART:20160313T080000
END:DAYLIGHT
BEGIN:STANDARD
TZOFFSETFROM:-0500
TZOFFSETTO:-0600
TZNAME:CST
DTSTART:20161106T070000
END:STANDARD
BEGIN:DAYLIGHT
TZOFFSETFROM:-0600
TZOFFSETTO:-0500
TZNAME:CDT
DTSTART:20170312T080000
END:DAYLIGHT
BEGIN:STANDARD
TZOFFSETFROM:-0500
TZOFFSETTO:-0600
TZNAME:CST
DTSTART:20171105T070000
END:STANDARD
END:VTIMEZONE
BEGIN:VEVENT
DTSTART;TZID=America/Chicago:20160315T160000
DTEND;TZID=America/Chicago:20160315T170000
DTSTAMP:20260419T155111
CREATED:20200720T194620Z
LAST-MODIFIED:20200720T195214Z
UID:5547-1458057600-1458061200@www.gika.info
SUMMARY:ATM® Series—Rice University
DESCRIPTION:Feeling stuck in a rut? Want to move better\, faster\, and with more ease?  \nDesigned to help the human body move with greater strength and efficiency\, this 4 week class introduces students to new movement patterns and ways to be more mindful of our own bodies. Classes are suited for all fitness levels; willingness to move with grace and ease required. Attend the first class on March 15 for free! \nSchedule\nFour Tuesdays\nMarch 15-April 5\, 2016 \nFee\n$60 students\n$70 non-students\n$80 non-members \nHow to register\nRegistration is closed for this event. \nShare\n				Share on Facebook (Opens in new window)\n				Facebook\n			\n				Share on X (Opens in new window)\n				X\n			\n				Share on LinkedIn (Opens in new window)\n				LinkedIn\n			\n				Share on WhatsApp (Opens in new window)\n				WhatsApp\n			\n				Email a link to a friend (Opens in new window)\n				Email\n			\n				Print (Opens in new window)\n				Print
URL:https://www.gika.info/event/atm-series-rice-university/
LOCATION:Rice University\, Room MPR 3\, 6100 Main St\, Houston\, TX\, 77005\, United States
CATEGORIES:ATM class series,Feldenkrais
ATTACH;FMTTYPE=image/jpeg:https://www.gika.info/wp/wp-content/uploads/2013/10/stretch.jpg
END:VEVENT
END:VCALENDAR